BEGIN:VCALENDAR
VERSION:2.0
PRODID:-//https://www.hr-valais.ch///NONSGML kigkonsult.se iCalcreator 2.10.15//
METHOD:PUBLISH
BEGIN:VEVENT
UID:20260420T115311CEST-6182fwMOvw@https://www.hr-valais.ch/
DTSTAMP:20260420T095311Z
DESCRIPTION:\n\nPetit-d&eacute\;jeuner employeurs\nde l'Office cantonal AI 
 du Valais\n&nbsp\;\n\nMerci de nous faire parvenir votre inscriptionjusqu'
 au mardi 4 avril 2017:e-mail: contactaivs@aivs.cht&eacute\;l&eacute\;phone
 : 027 324 96 24 https://www.hr-valais.ch/evenements/evenement/112-petit-de
 jeuner-employeurs-office-cantonal-aivs
DTSTART:20170407T071500Z
DTEND:20170407T090000Z
LOCATION:Pavillon des Mangettes (Route Boeuferrant-Nord 45\, 1870 Monthey\,
  Suisse)
SUMMARY:Petit-déjeuner employeurs Office cantonal AIVS
URL:https://www.hr-valais.ch/evenements/evenement/112-petit-dejeuner-employ
 eurs-office-cantonal-aivs
END:VEVENT
END:VCALENDAR
